BEGIN:VCALENDAR
VERSION:2.0
PRODID:icalendar-ruby
CALSCALE:GREGORIAN
BEGIN:VEVENT
DTSTAMP:20260422T100700Z
UID:0ed2b8f4-3153-4082-af19-a1808540938e
DTSTART;VALUE=DATE:20210429
DESCRIPTION:Property ID# 506025\, Locatoin: Harcourts Wellington City Offic
 e\, 54-56 Cambridge Terrace (not selling prior)\, Time: 1:00PM
SUMMARY:Auction for 
END:VEVENT
END:VCALENDAR
